BEGIN:VCALENDAR
VERSION:2.0
PRODID:-//eventon.com NONSGML v1.0//EN
CALSCALE:GREGORIAN
METHOD:PUBLISH
BEGIN:VEVENT
UID:69eb07f28944f
DTSTAMP:20260424T060434Z
DTSTART:20260411T160000Z
DTEND:20260411T230000Z
LOCATION:BCG Counselling Group Vancouver 1011 Nelson Street
SUMMARY:Mental Health in Our City
DESCRIPTION:Join us for a one-day conference and the grand opening of BCG C
 ounselling Vancouver – a day dedicated to healing\,  hope\,  and mental w
 ellness in our city. Date: April 11\,  2026 (New Date) Time: 9:00am &#8211;
  4:00pm Venue: BCG Counselling Group Vancouver (1011 Nelson Street) | Guest
 s will find many[..]\nhttps://counsellinggroup.org/blog/events-and-seminars
 /mental-health-in-our-city/
URL:https://counsellinggroup.org/blog/events-and-seminars/mental-health-in-our-city/
END:VEVENT
END:VCALENDAR